BEGIN:VCALENDAR
CALSCALE:GREGORIAN
METHOD:PUBLISH
PRODID:-//www.sutz-lattrigen.ch//NONSGML iCalcreator 2.4.3//
VERSION:2.0
BEGIN:VEVENT
UID:20260422T202902CEST-7747B8XCOc@www.sutz-lattrigen.ch
DTSTAMP:20260422T182902Z
CATEGORIES:Diverses
DESCRIPTION:[Fischerfest Sportfischerverein Sutz]\n\nStartdatum: 08.08.2026
 \nStarzeit: 00:00:00: Uhr\nEnddatum: 09.08.2026\nEndzeit: 00:00:00: Uhr\nO
 rt: Badematte\nOrganisator: Sportfischerverein\n\n\n\n\nKlicken Sie auf de
 n folgenden Link\, um weitere Informationen zur Veranstaltung zu erhalten
 \nhttp://www.sutz-lattrigen.ch/de/veranstaltungen/detail.php?i=494
DTEND:20260809T000000
DTSTART:20260808T000000
LOCATION:Badematte
SUMMARY:Fischerfest Sportfischerverein Sutz
END:VEVENT
END:VCALENDAR
