BEGIN:VCALENDAR
CALSCALE:GREGORIAN
METHOD:PUBLISH
PRODID:-//www.sutz-lattrigen.ch//NONSGML iCalcreator 2.4.3//
VERSION:2.0
BEGIN:VEVENT
UID:20260422T203614CEST-5826ipLo7D@www.sutz-lattrigen.ch
DTSTAMP:20260422T183614Z
CATEGORIES:Diverses
DESCRIPTION:[Ciné au Lac]\n\nStartdatum: 05.08.2026\nStarzeit: 21:00:00: U
 hr\nEnddatum: 05.08.2026\nEndzeit: 23:00:00: Uhr\nOrt: von Rütte-Gut\nOrg
 anisator: Filmkomitee\n\n\n\n\nKlicken Sie auf den folgenden Link\, um wei
 tere Informationen zur Veranstaltung zu erhalten\nhttp://www.sutz-lattrige
 n.ch/de/veranstaltungen/detail.php?i=493
DTEND:20260805T230000
DTSTART:20260805T210000
LOCATION:von Rütte-Gut
SUMMARY:Ciné au Lac
END:VEVENT
END:VCALENDAR
