BEGIN:VCALENDAR
CALSCALE:GREGORIAN
METHOD:PUBLISH
PRODID:-//www.sutz-lattrigen.ch//NONSGML iCalcreator 2.4.3//
VERSION:2.0
BEGIN:VEVENT
UID:20260422T202729CEST-1610sUbxOT@www.sutz-lattrigen.ch
DTSTAMP:20260422T182729Z
CATEGORIES:Diverses
DESCRIPTION:[Samichlous]\n\nStartdatum: 06.12.2026\nStarzeit: 17:30:00: Uhr
 \nEnddatum: 06.12.2026\nEndzeit: 18:30:00: Uhr\nOrt: Pfrundscheune\nOrgani
 sator: Verein Kultur Pfrundscheune\n\n\n\n\nKlicken Sie auf den folgenden 
 Link\, um weitere Informationen zur Veranstaltung zu erhalten\nhttp://www.
 sutz-lattrigen.ch/de/veranstaltungen/detail.php?i=486
DTEND:20261206T180000
DTSTART:20261206T170000
LOCATION:Pfrundscheune
SUMMARY:Samichlous
END:VEVENT
END:VCALENDAR
