BEGIN:VCALENDAR
CALSCALE:GREGORIAN
METHOD:PUBLISH
PRODID:-//www.sutz-lattrigen.ch//NONSGML iCalcreator 2.4.3//
VERSION:2.0
BEGIN:VEVENT
UID:20260422T203728CEST-9848DCGvcb@www.sutz-lattrigen.ch
DTSTAMP:20260422T183728Z
CATEGORIES:Diverses
DESCRIPTION:[Lesung\, Esther Pauchard]\n\nStartdatum: 07.11.2026\nStarzeit:
  19:30:00: Uhr\nEnddatum: 07.11.2026\nEndzeit: 22:00:00: Uhr\nOrt: von Rü
 tte-Gut\nOrganisator: Verein Kultur Pfrundscheune\n\n\n\n\nKlicken Sie auf
  den folgenden Link\, um weitere Informationen zur Veranstaltung zu erhalt
 en\nhttp://www.sutz-lattrigen.ch/de/veranstaltungen/detail.php?i=485
DTEND:20261107T220000
DTSTART:20261107T190000
LOCATION:von Rütte-Gut
SUMMARY:Lesung\, Esther Pauchard
END:VEVENT
END:VCALENDAR
