BEGIN:VCALENDAR
CALSCALE:GREGORIAN
METHOD:PUBLISH
PRODID:-//www.sutz-lattrigen.ch//NONSGML iCalcreator 2.4.3//
VERSION:2.0
BEGIN:VEVENT
UID:20260422T203728CEST-84838v7Vmc@www.sutz-lattrigen.ch
DTSTAMP:20260422T183728Z
CATEGORIES:Diverses
DESCRIPTION:[TauschPlausch]\n\nStartdatum: 14.10.2026\nStarzeit: 19:00:00: 
 Uhr\nEnddatum: 14.10.2026\nEndzeit: 21:00:00: Uhr\nOrt: Pfrundscheune\nOrg
 anisator: Verein Kultur Pfrundscheune\n\n\n\n\nKlicken Sie auf den folgend
 en Link\, um weitere Informationen zur Veranstaltung zu erhalten\nhttp://w
 ww.sutz-lattrigen.ch/de/veranstaltungen/detail.php?i=484
DTEND:20261014T210000
DTSTART:20261014T190000
LOCATION:Pfrundscheune
SUMMARY:TauschPlausch
END:VEVENT
END:VCALENDAR
