BEGIN:VCALENDAR
CALSCALE:GREGORIAN
METHOD:PUBLISH
PRODID:-//www.sutz-lattrigen.ch//NONSGML iCalcreator 2.4.3//
VERSION:2.0
BEGIN:VEVENT
UID:20260422T203728CEST-7126iuIGbP@www.sutz-lattrigen.ch
DTSTAMP:20260422T183728Z
CATEGORIES:Diverses
DESCRIPTION:[Komiker\, Christoph Simon]\n\nStartdatum: 04.09.2026\nStarzeit
 : 19:30:00: Uhr\nEnddatum: 04.09.2026\nEndzeit: 22:00:00: Uhr\nOrt: Pfrund
 scheune\nOrganisator: Verein Kultur Pfrundscheune\n\n\n\n\nKlicken Sie auf
  den folgenden Link\, um weitere Informationen zur Veranstaltung zu erhalt
 en\nhttp://www.sutz-lattrigen.ch/de/veranstaltungen/detail.php?i=483
DTEND:20260904T220000
DTSTART:20260904T190000
LOCATION:Pfrundscheune
SUMMARY:Komiker\, Christoph Simon
END:VEVENT
END:VCALENDAR
