BEGIN:VCALENDAR
CALSCALE:GREGORIAN
METHOD:PUBLISH
PRODID:-//www.sutz-lattrigen.ch//NONSGML iCalcreator 2.4.3//
VERSION:2.0
BEGIN:VEVENT
UID:20260422T203021CEST-6372tsaj6g@www.sutz-lattrigen.ch
DTSTAMP:20260422T183021Z
CATEGORIES:Diverses
DESCRIPTION:[Sommerfest]\n\nStartdatum: 20.06.2026\nStarzeit: 17:00:00: Uhr
 \nEnddatum: 20.06.2026\nEndzeit: 22:00:00: Uhr\nOrt: Pfrundscheune\nOrgani
 sator: Verein Kultur Pfrundscheune\n\n\n\n\nKlicken Sie auf den folgenden 
 Link\, um weitere Informationen zur Veranstaltung zu erhalten\nhttp://www.
 sutz-lattrigen.ch/de/veranstaltungen/detail.php?i=482
DTEND:20260620T220000
DTSTART:20260620T170000
LOCATION:Pfrundscheune
SUMMARY:Sommerfest
END:VEVENT
END:VCALENDAR
