BEGIN:VCALENDAR
CALSCALE:GREGORIAN
METHOD:PUBLISH
PRODID:-//www.sutz-lattrigen.ch//NONSGML iCalcreator 2.4.3//
VERSION:2.0
BEGIN:VEVENT
UID:20260422T203150CEST-7589tmbeF4@www.sutz-lattrigen.ch
DTSTAMP:20260422T183150Z
CATEGORIES:Diverses
DESCRIPTION:[End-of-the-Year Family Party]\n\nStartdatum: 30.12.2026\nStarz
 eit: 17:30:00: Uhr\nEnddatum: 30.12.2026\nEndzeit: 21:00:00: Uhr\nOrt: Sch
 ulhaus Sutz-Lattrigen\nOrganisator: Familienverein Eselsohr\n\n\n\n\nKlick
 en Sie auf den folgenden Link\, um weitere Informationen zur Veranstaltung
  zu erhalten\nhttp://www.sutz-lattrigen.ch/de/veranstaltungen/detail.php?i
 =477
DTEND:20261230T210000
DTSTART:20261230T170000
LOCATION:Schulhaus Sutz-Lattrigen
SUMMARY:End-of-the-Year Family Party
END:VEVENT
END:VCALENDAR
