BEGIN:VCALENDAR
CALSCALE:GREGORIAN
METHOD:PUBLISH
PRODID:-//www.sutz-lattrigen.ch//NONSGML iCalcreator 2.4.3//
VERSION:2.0
BEGIN:VEVENT
UID:20260422T203028CEST-70631VxKKc@www.sutz-lattrigen.ch
DTSTAMP:20260422T183028Z
CATEGORIES:Diverses
DESCRIPTION:[Basteln\, Umzug & Suppe]\n\nStartdatum: 06.11.2026\nStarzeit: 
 15:30:00: Uhr\nEnddatum: 06.11.2026\nEndzeit: 19:00:00: Uhr\nOrt: wird noc
 h bekannt gegeben\nOrganisator: Familienverein Eselsohr\n\n\n\n\nKlicken S
 ie auf den folgenden Link\, um weitere Informationen zur Veranstaltung zu 
 erhalten\nhttp://www.sutz-lattrigen.ch/de/veranstaltungen/detail.php?i=476
DTEND:20261106T190000
DTSTART:20261106T150000
LOCATION:wird noch bekannt gegeben
SUMMARY:Basteln\, Umzug & Suppe
END:VEVENT
END:VCALENDAR
