BEGIN:VCALENDAR
CALSCALE:GREGORIAN
METHOD:PUBLISH
PRODID:-//www.sutz-lattrigen.ch//NONSGML iCalcreator 2.4.3//
VERSION:2.0
BEGIN:VEVENT
UID:20260422T203608CEST-7461DDLLKN@www.sutz-lattrigen.ch
DTSTAMP:20260422T183608Z
CATEGORIES:Diverses
DESCRIPTION:[Kinderkleidertausch Matineée & offene Turnhallte (mit DTV)]\n
 \nStartdatum: 25.10.2026\nStarzeit: 10:00:00: Uhr\nEnddatum: 25.10.2026\nE
 ndzeit: 12:00:00: Uhr\nOrt: Schulhaus Sutz-Lattrigen\nOrganisator: Familie
 nverein Eselsohr\n\n\n\n\nKlicken Sie auf den folgenden Link\, um weitere 
 Informationen zur Veranstaltung zu erhalten\nhttp://www.sutz-lattrigen.ch/
 de/veranstaltungen/detail.php?i=475
DTEND:20261025T120000
DTSTART:20261025T100000
LOCATION:Schulhaus Sutz-Lattrigen
SUMMARY:Kinderkleidertausch Matineée & offene Turnhallte (mit DTV)
END:VEVENT
END:VCALENDAR
