BEGIN:VCALENDAR
CALSCALE:GREGORIAN
METHOD:PUBLISH
PRODID:-//www.sutz-lattrigen.ch//NONSGML iCalcreator 2.4.3//
VERSION:2.0
BEGIN:VEVENT
UID:20260422T221316CEST-33184np1Bl@www.sutz-lattrigen.ch
DTSTAMP:20260422T201316Z
CATEGORIES:Diverses
DESCRIPTION:[Midsummer Family Day]\n\nStartdatum: 21.06.2026\nStarzeit: 11:
 30:00: Uhr\nEnddatum: 21.06.2026\nEndzeit: 15:00:00: Uhr\nOrt: Camping Sut
 z am Bielersee\nOrganisator: Familienverein Eselsohr\n\n\n\n\nKlicken Sie 
 auf den folgenden Link\, um weitere Informationen zur Veranstaltung zu erh
 alten\nhttp://www.sutz-lattrigen.ch/de/veranstaltungen/detail.php?i=474
DTEND:20260621T150000
DTSTART:20260621T110000
LOCATION:Camping Sutz am Bielersee
SUMMARY:Midsummer Family Day
END:VEVENT
END:VCALENDAR
