BEGIN:VCALENDAR
CALSCALE:GREGORIAN
METHOD:PUBLISH
PRODID:-//www.sutz-lattrigen.ch//NONSGML iCalcreator 2.4.3//
VERSION:2.0
BEGIN:VEVENT
UID:20260422T202811CEST-54117LwiLV@www.sutz-lattrigen.ch
DTSTAMP:20260422T182811Z
CATEGORIES:Diverses
DESCRIPTION:[Heilkräuterführung und - verarbeitung]\n\nStartdatum: 30.05.
 2026\nStarzeit: 14:00:00: Uhr\nEnddatum: 30.05.2026\nEndzeit: 16:00:00: Uh
 r\nOrt: wird noch bekannt gegeben\nOrganisator: Familienverein Eselsohr\n
 \n\n\n\nKlicken Sie auf den folgenden Link\, um weitere Informationen zur 
 Veranstaltung zu erhalten\nhttp://www.sutz-lattrigen.ch/de/veranstaltungen
 /detail.php?i=473
DTEND:20260530T160000
DTSTART:20260530T140000
LOCATION:wird noch bekannt gegeben
SUMMARY:Heilkräuterführung und - verarbeitung
END:VEVENT
END:VCALENDAR
